BEGIN:VCALENDAR
PRODID:-//MatrixMaxx//RemoteApi//EN
VERSION:2.0
METHOD:PUBLISH
CALSCALE:GREGORIAN
X-ORIGINAL-URL:http://www2.nmapc.org/forms/meeting/MeetingFormPublic/view?id=1BBD5F00000169
BEGIN:VEVENT
SUMMARY:NMAPC Owner Advisory Committee - 2019 Annual Planning Meeting
LAST-MODIFIED:20190307
UID:ci_1BBD5F00000169@matrixgroup.net
CLASS:PUBLIC
CREATED:20190307
DTSTAMP:20190307
DTSTART:20190307
X-FUNAMBOL-ALLDAY:1
LOCATION:NMAPC+Administrative+Office
DESCRIPTION:For+full+info+see+http%3A%2F%2Fwww2.nmapc.org%2Fforms%2Fmeeting%2FMeetingFormPublic%2Fview%3Fid%3D1BBD5F00000169%0A
X-WR-CALDESC:For+full+info+see+http%3A%2F%2Fwww2.nmapc.org%2Fforms%2Fmeeting%2FMeetingFormPublic%2Fview%3Fid%3D1BBD5F00000169%0A
X-WR-CALNAME:Maxx Calendar
DTEND:20190308
URL:http://www2.nmapc.org/forms/meeting/MeetingFormPublic/view?id=1BBD5F00000169
END:VEVENT
END:VCALENDAR