BEGIN:VCALENDAR
PRODID:-//MatrixMaxx//RemoteApi//EN
VERSION:2.0
METHOD:PUBLISH
CALSCALE:GREGORIAN
X-ORIGINAL-URL:http://www2.nmapc.org/forms/meeting/MeetingFormPublic/view?id=28437800000021
BEGIN:VEVENT
SUMMARY:NMAPC Labor Section Meeting
LAST-MODIFIED:20230906T170000Z
UID:ci_28437800000021@matrixgroup.net
CLASS:PUBLIC
CREATED:20230906T170000Z
DTSTAMP:20230906T170000Z
DTSTART:20230906T170000Z
X-FUNAMBOL-ALLDAY:1
LOCATION:The+Omni+Hotel+Nashville
DESCRIPTION:For+full+info+see+http%3A%2F%2Fwww2.nmapc.org%2Fforms%2Fmeeting%2FMeetingFormPublic%2Fview%3Fid%3D28437800000021%0A
X-WR-CALDESC:For+full+info+see+http%3A%2F%2Fwww2.nmapc.org%2Fforms%2Fmeeting%2FMeetingFormPublic%2Fview%3Fid%3D28437800000021%0A
X-WR-CALNAME:Maxx Calendar
DTEND:20230906T180000Z
URL:http://www2.nmapc.org/forms/meeting/MeetingFormPublic/view?id=28437800000021
END:VEVENT
END:VCALENDAR